BEGIN:VCALENDAR
VERSION:2.0
PRODID:-//Saalfelden-Leogang.com//NONSGML kigkonsult.se iCalcreator 2.22.1/
 /EN
METHOD:PUBLISH
X-WR-CALNAME;LANGUAGE=en:Saalfelden-Leogang.com
X-WR-CALDESC;LANGUAGE=en:Saalfelden-Leogang.com
X-WR-TIMEZONE;LANGUAGE=en:Europe/Berlin
BEGIN:VEVENT
UID:20260423T041503CEST-9037BR4IZC@Saalfelden-Leogang.com
DTSTAMP:20260423T021503Z
DESCRIPTION;LANGUAGE=en:Summer solstice at Forsthofalm with DJ and Live Mus
 ic Act
DTSTART:20260621T190000Z
DTEND:20260621T190000Z
LOCATION;LANGUAGE=en:Holzhotel Forsthofalm\, Hütten 37
SUMMARY;LANGUAGE=en:Sommersonnwende at Forsthofalm
END:VEVENT
END:VCALENDAR
